BEGIN:VCALENDAR
PRODID://Bedework.org//BedeWork V3.13.2//EN
VERSION:2.0
METHOD:PUBLISH
BEGIN:VTIMEZONE
TZID:America/New_York
X-LIC-LOCATION:America/New_York
BEGIN:STANDARD
TZOFFSETFROM:-045602
TZOFFSETTO:-0500
TZNAME:EST
DTSTART:18831118T120358
RDATE:18831118T120358
END:STANDARD
BEGIN:DAYLIGHT
TZOFFSETFROM:-0500
TZOFFSETTO:-0400
TZNAME:EDT
DTSTART:19180331T020000
RRULE:FREQ=YEARLY;UNTIL=19190330T070000Z;BYMONTH=3;BYDAY=-1SU
END:DAYLIGHT
BEGIN:STANDARD
TZOFFSETFROM:-0400
TZOFFSETTO:-0500
TZNAME:EST
DTSTART:19181027T020000
RRULE:FREQ=YEARLY;UNTIL=19191026T060000Z;BYMONTH=10;BYDAY=-1SU
END:STANDARD
BEGIN:STANDARD
TZOFFSETFROM:-0500
TZOFFSETTO:-0500
TZNAME:EST
DTSTART:19200101T000000
RDATE:19200101T000000
RDATE:19420101T000000
RDATE:19460101T000000
RDATE:19670101T000000
END:STANDARD
BEGIN:DAYLIGHT
TZOFFSETFROM:-0500
TZOFFSETTO:-0400
TZNAME:EDT
DTSTART:19200328T020000
RDATE:19200328T020000
RDATE:19740106T020000
RDATE:19750223T020000
END:DAYLIGHT
BEGIN:STANDARD
TZOFFSETFROM:-0400
TZOFFSETTO:-0500
TZNAME:EST
DTSTART:19201031T020000
RDATE:19201031T020000
RDATE:19450930T020000
END:STANDARD
BEGIN:DAYLIGHT
TZOFFSETFROM:-0500
TZOFFSETTO:-0400
TZNAME:EDT
DTSTART:19210424T020000
RRULE:FREQ=YEARLY;UNTIL=19410427T070000Z;BYMONTH=4;BYDAY=-1SU
END:DAYLIGHT
BEGIN:STANDARD
TZOFFSETFROM:-0400
TZOFFSETTO:-0500
TZNAME:EST
DTSTART:19210925T020000
RRULE:FREQ=YEARLY;UNTIL=19410928T060000Z;BYMONTH=9;BYDAY=-1SU
END:STANDARD
BEGIN:DAYLIGHT
TZOFFSETFROM:-0500
TZOFFSETTO:-0400
TZNAME:EWT
DTSTART:19420209T020000
RDATE:19420209T020000
END:DAYLIGHT
BEGIN:DAYLIGHT
TZOFFSETFROM:-0400
TZOFFSETTO:-0400
TZNAME:EPT
DTSTART:19450814T190000
RDATE:19450814T190000
END:DAYLIGHT
BEGIN:DAYLIGHT
TZOFFSETFROM:-0500
TZOFFSETTO:-0400
TZNAME:EDT
DTSTART:19460428T020000
RRULE:FREQ=YEARLY;UNTIL=19660424T070000Z;BYMONTH=4;BYDAY=-1SU
END:DAYLIGHT
BEGIN:STANDARD
TZOFFSETFROM:-0400
TZOFFSETTO:-0500
TZNAME:EST
DTSTART:19460929T020000
RRULE:FREQ=YEARLY;UNTIL=19540926T060000Z;BYMONTH=9;BYDAY=-1SU
END:STANDARD
BEGIN:STANDARD
TZOFFSETFROM:-0400
TZOFFSETTO:-0500
TZNAME:EST
DTSTART:19551030T020000
RRULE:FREQ=YEARLY;UNTIL=19661030T060000Z;BYMONTH=10;BYDAY=-1SU
END:STANDARD
BEGIN:DAYLIGHT
TZOFFSETFROM:-0500
TZOFFSETTO:-0400
TZNAME:EDT
DTSTART:19670430T020000
RRULE:FREQ=YEARLY;UNTIL=19730429T070000Z;BYMONTH=4;BYDAY=-1SU
END:DAYLIGHT
BEGIN:STANDARD
TZOFFSETFROM:-0400
TZOFFSETTO:-0500
TZNAME:EST
DTSTART:19671029T020000
RRULE:FREQ=YEARLY;UNTIL=20061029T060000Z;BYMONTH=10;BYDAY=-1SU
END:STANDARD
BEGIN:DAYLIGHT
TZOFFSETFROM:-0500
TZOFFSETTO:-0400
TZNAME:EDT
DTSTART:19760425T020000
RRULE:FREQ=YEARLY;UNTIL=19860427T070000Z;BYMONTH=4;BYDAY=-1SU
END:DAYLIGHT
BEGIN:DAYLIGHT
TZOFFSETFROM:-0500
TZOFFSETTO:-0400
TZNAME:EDT
DTSTART:19870405T020000
RRULE:FREQ=YEARLY;UNTIL=20060402T070000Z;BYMONTH=4;BYDAY=1SU
END:DAYLIGHT
BEGIN:DAYLIGHT
TZOFFSETFROM:-0500
TZOFFSETTO:-0400
TZNAME:EDT
DTSTART:20070311T020000
RRULE:FREQ=YEARLY;BYMONTH=3;BYDAY=2SU
END:DAYLIGHT
BEGIN:STANDARD
TZOFFSETFROM:-0400
TZOFFSETTO:-0500
TZNAME:EST
DTSTART:20071104T020000
RRULE:FREQ=YEARLY;BYMONTH=11;BYDAY=1SU
END:STANDARD
END:VTIMEZONE
BEGIN:VEVENT
CATEGORIES:org/sabin
CATEGORIES:org/law
CATEGORIES:org/CCS
CATEGORIES:Type
CATEGORIES:Location
CATEGORIES:Audience
CATEGORIES:Category
CATEGORIES:Conference
CATEGORIES:Online
CATEGORIES:Law
CATEGORIES:Student
CATEGORIES:Faculty
CATEGORIES:Staff
CATEGORIES:Alumni
CATEGORIES:Events open to
CATEGORIES:Postdocs
CATEGORIES:Graduate Students
CONTACT;X-BEDEWORK-UID=00bbdb71-795f9938-0179-60f3ea90-00000169:Kemi Adeta
 yo
CREATED:20210512T142121Z
DESCRIPTION:Date: June 23-24\, 2021\nThis biennial conference examines key
  and emerging environmental issues in the Environmental Protection Agency
  (EPA) Region 2 area\, which includes New York\, New Jersey\, Puerto Rico
 \, and the\nU.S. Virgin Islands.\nFREE REGISTRATION\, AND FOR MATERIALS A
 ND ZOOM LINK. TO REGISTER\, SIGN UP AT THE BOTTOM OF THE DAY ONE CONFEREN
 CE PAGE WHERE IT SAYS "REGISTER."\nFOR MORE INFORMATION\nCLE INQUIRIES:\n
 cle@law.columbia.edu\nGENERAL INQUIRIES:\nKemi Adetayo\, aadetayo@law.col
 umbia.edu\nSPONSORED BY\n\nU.S. Environmental Protection Agency\, Region 
 2\nAmerican Bar Association Section of Environment\, Energy and Resources
 \nNew York State Bar Association\, Environmental and Energy Law Section\n
 New Jersey State Bar Association\, Environmental Law Section\nNew York Ci
 ty Bar Association\, Environmental Law Committee\nColumbia Law School\nSa
 bin Center for Climate Change Law\nColumbia Climate School\n
DTEND;TZID=America/New_York:20210624T140000
DTSTAMP:20210622T205323Z
DTSTART;TZID=America/New_York:20210624T084000
LAST-MODIFIED:20210622T205323Z
LOCATION;X-BEDEWORK-UID=00bb9e28-75dfc87b-0175-e1490d82-0000464b:Online Ev
 ent\, Zoom details will be provided after registration
X-BEDEWORK-LOCATION-ADDR:Online Event
X-BEDEWORK-LOCATION-ROOM:Zoom details will be provided after registration
X-BEDEWORK-LOCATION-ACCESSIBLE:false
STATUS:CONFIRMED
SUMMARY:June 23-24: Key Environmental Issues in U.S. EPA Region 2
UID:CAL-00bbdb71-795f9938-0179-60f41de1-0000016aevents@columbia.edu
X-BEDEWORK-ALIAS;X-BEDEWORK-PARAM-DISPLAYNAME=Online;X-BEDEWORK-PARAM-PATH
 =/public/aliases/Location/Online;X-BEDEWORK-PARAM-ALIASPATH=/public/cals/
 MainCal:/user/agrp_calsuite-sabin/Location/Online
X-BEDEWORK-ALIAS;X-BEDEWORK-PARAM-DISPLAYNAME=Conference;X-BEDEWORK-PARAM-
 PATH=/public/aliases/Type/Conference;X-BEDEWORK-PARAM-ALIASPATH=/public/c
 als/MainCal:/user/agrp_calsuite-sabin/Type/Conference
X-BEDEWORK-ALIAS;X-BEDEWORK-PARAM-DISPLAYNAME=Alumni;X-BEDEWORK-PARAM-PATH
 =/public/aliases/Audience/Alumni;X-BEDEWORK-PARAM-ALIASPATH=/public/cals/
 MainCal:/user/agrp_calsuite-sabin/Events open to/Alumni
X-BEDEWORK-ALIAS;X-BEDEWORK-PARAM-DISPLAYNAME=Faculty;X-BEDEWORK-PARAM-PAT
 H=/public/aliases/Audience/Faculty;X-BEDEWORK-PARAM-ALIASPATH=/public/cal
 s/MainCal:/user/agrp_calsuite-sabin/Events open to/Faculty
X-BEDEWORK-ALIAS;X-BEDEWORK-PARAM-DISPLAYNAME=Graduate Students;X-BEDEWORK
 -PARAM-PATH=/public/aliases/Audience/Graduate Students;X-BEDEWORK-PARAM-A
 LIASPATH=/public/cals/MainCal:/user/agrp_calsuite-sabin/Events open to/Gr
 aduate Students
X-BEDEWORK-ALIAS;X-BEDEWORK-PARAM-DISPLAYNAME=Postdocs;X-BEDEWORK-PARAM-PA
 TH=/public/aliases/Audience/Postdocs;X-BEDEWORK-PARAM-ALIASPATH=/public/c
 als/MainCal:/user/agrp_calsuite-sabin/Events open to/Postdocs
X-BEDEWORK-ALIAS;X-BEDEWORK-PARAM-DISPLAYNAME=Staff;X-BEDEWORK-PARAM-PATH=
 /public/aliases/Audience/Staff;X-BEDEWORK-PARAM-ALIASPATH=/public/cals/Ma
 inCal:/user/agrp_calsuite-sabin/Events open to/Staff
X-BEDEWORK-ALIAS;X-BEDEWORK-PARAM-DISPLAYNAME=Students;X-BEDEWORK-PARAM-PA
 TH=/public/aliases/Audience/Student;X-BEDEWORK-PARAM-ALIASPATH=/public/ca
 ls/MainCal:/user/agrp_calsuite-sabin/Events open to/Student
X-BEDEWORK-ALIAS;X-BEDEWORK-PARAM-DISPLAYNAME=Law;X-BEDEWORK-PARAM-PATH=/p
 ublic/aliases/Category/Law;X-BEDEWORK-PARAM-ALIASPATH=/public/cals/MainCa
 l:/user/agrp_calsuite-sabin/Category/Law
X-BEDEWORK-SUBMITTEDBY:ka2462 for Columbia Law - Sabin Center for Climate 
 Change (agrp_sabin)
X-BEDEWORK-REGISTRATION-GUEST-ACCESS:email
X-BEDEWORK-DESCRIPTION-FORMAT:html
X-BEDEWORK-CALSUITE:Columbia Law - Sabin Center for Climate Change
X-BEDEWORK-SHORTTITLE:June 23-24: Key Environmental Issues in U.S. EPA Reg
 ion 2
END:VEVENT
END:VCALENDAR
